BEGIN:VCALENDAR
VERSION:2.0
PRODID:-//Misquamicut Drive-In - ECPv6.15.20//NONSGML v1.0//EN
CALSCALE:GREGORIAN
METHOD:PUBLISH
X-WR-CALNAME:Misquamicut Drive-In
X-ORIGINAL-URL:https://mbadrivein.com
X-WR-CALDESC:Events for Misquamicut Drive-In
REFRESH-INTERVAL;VALUE=DURATION:PT1H
X-Robots-Tag:noindex
X-PUBLISHED-TTL:PT1H
BEGIN:VTIMEZONE
TZID:America/New_York
BEGIN:DAYLIGHT
TZOFFSETFROM:-0500
TZOFFSETTO:-0400
TZNAME:EDT
DTSTART:20250309T070000
END:DAYLIGHT
BEGIN:STANDARD
TZOFFSETFROM:-0400
TZOFFSETTO:-0500
TZNAME:EST
DTSTART:20251102T060000
END:STANDARD
BEGIN:DAYLIGHT
TZOFFSETFROM:-0500
TZOFFSETTO:-0400
TZNAME:EDT
DTSTART:20260308T070000
END:DAYLIGHT
BEGIN:STANDARD
TZOFFSETFROM:-0400
TZOFFSETTO:-0500
TZNAME:EST
DTSTART:20261101T060000
END:STANDARD
BEGIN:DAYLIGHT
TZOFFSETFROM:-0500
TZOFFSETTO:-0400
TZNAME:EDT
DTSTART:20270314T070000
END:DAYLIGHT
BEGIN:STANDARD
TZOFFSETFROM:-0400
TZOFFSETTO:-0500
TZNAME:EST
DTSTART:20271107T060000
END:STANDARD
END:VTIMEZONE
BEGIN:VEVENT
DTSTART;TZID=America/New_York:20260515T210000
DTEND;TZID=America/New_York:20260515T230000
DTSTAMP:20260422T091725
CREATED:20260421T190944Z
LAST-MODIFIED:20260421T190944Z
UID:10000842-1778878800-1778886000@mbadrivein.com
SUMMARY:Jaws at the Misquamicut Drive-In SEASON OPENER!
DESCRIPTION:Misquamicut Drive-in Movies!  ONE TICKET PER CARLOAD.\n\n\nMOVIE STARTS AT 9-NO REFUNDS \nMisquamicut Drive-in Movies! ONE TICKET PER CARLOAD. \nOne ticket gets your car in the lot. It does not matter how many people are in your vehicle\, it is per carload. \nFirst come first served as far as positioning of car in the lot. \nMain Lot Gates open 6:30 \nPreviews at 8 \nMovie at 9 \nNO REFUNDS FOR ANY REASON. No transfers.
URL:https://mbadrivein.com/event/jaws-at-the-misquamicut-drive-in-season-opener-3/
LOCATION:Wuskenau Beach Pondside\, 316 Atlantic Ave\, Westerly\, RI\, 02891\, United States
ATTACH;FMTTYPE=image/jpeg:https://mbadrivein.com/wp-content/uploads/2026/04/46dac32c4ef5c28e9b8bacf01ec7a1d7-Jm8BGQ.tmp_.jpg
END:VEVENT
END:VCALENDAR